Package: RITAN Version: 1.35.0 Command: /Library/Frameworks/R.framework/Resources/bin/R CMD INSTALL RITAN StartedAt: 2025-11-14 15:21:57 -0500 (Fri, 14 Nov 2025) EndedAt: 2025-11-14 15:22:15 -0500 (Fri, 14 Nov 2025) EllapsedTime: 17.8 seconds RetCode: 0 Status: OK