Package: RITAN Version: 1.35.0 Command: rm -rf RITAN.buildbin-libdir && mkdir RITAN.buildbin-libdir && /Users/biocbuild/BBS/utils/build-universal.sh RITAN_1.35.0.tar.gz /Library/Frameworks/R.framework/Resources/bin/R RITAN.buildbin-libdir StartedAt: 2025-11-14 23:48:27 -0500 (Fri, 14 Nov 2025) EndedAt: 2025-11-14 23:48:48 -0500 (Fri, 14 Nov 2025) EllapsedTime: 21.4 seconds RetCode: 0 Status: OK PackageFile: RITAN_1.35.0.tgz PackageFileSize: 973.2 KiB