Package: RGraph2js Version: 1.39.0 Command: /Library/Frameworks/R.framework/Resources/bin/R CMD INSTALL RGraph2js StartedAt: 2025-11-12 15:21:30 -0500 (Wed, 12 Nov 2025) EndedAt: 2025-11-12 15:21:32 -0500 (Wed, 12 Nov 2025) EllapsedTime: 2.1 seconds RetCode: 0 Status: OK