Package: RGraph2js Version: 1.39.0 Command: /Library/Frameworks/R.framework/Resources/bin/R CMD build --keep-empty-dirs --no-resave-data RGraph2js StartedAt: 2025-11-12 17:04:04 -0500 (Wed, 12 Nov 2025) EndedAt: 2025-11-12 17:04:10 -0500 (Wed, 12 Nov 2025) EllapsedTime: 6.1 seconds RetCode: 0 Status: OK PackageFile: RGraph2js_1.39.0.tar.gz PackageFileSize: 2.344 MiB