Package: RGraph2js Version: 1.39.0 Command: rm -rf RGraph2js.buildbin-libdir && mkdir RGraph2js.buildbin-libdir && /Users/biocbuild/BBS/utils/build-universal.sh RGraph2js_1.39.0.tar.gz /Library/Frameworks/R.framework/Resources/bin/R RGraph2js.buildbin-libdir StartedAt: 2025-11-12 21:08:07 -0500 (Wed, 12 Nov 2025) EndedAt: 2025-11-12 21:08:10 -0500 (Wed, 12 Nov 2025) EllapsedTime: 3.1 seconds RetCode: 0 Status: OK PackageFile: RGraph2js_1.39.0.tgz PackageFileSize: 1.498 MiB