Package: RGSEA Version: 1.45.0 Command: /home/biocbuild/bbs-3.23-bioc/R/bin/R CMD INSTALL RGSEA StartedAt: 2025-11-13 15:11:49 -0500 (Thu, 13 Nov 2025) EndedAt: 2025-11-13 15:11:53 -0500 (Thu, 13 Nov 2025) EllapsedTime: 3.3 seconds RetCode: 0 Status: OK