Package: RGSEA Version: 1.45.0 Command: /home/biocbuild/bbs-3.23-bioc/R/bin/R CMD build --keep-empty-dirs --no-resave-data RGSEA StartedAt: 2025-11-11 19:40:55 -0500 (Tue, 11 Nov 2025) EndedAt: 2025-11-11 19:41:29 -0500 (Tue, 11 Nov 2025) EllapsedTime: 34.0 seconds RetCode: 0 Status: OK PackageFile: RGSEA_1.45.0.tar.gz PackageFileSize: 1.723 MiB