Package: RGSEA Version: 1.45.0 Command: /Library/Frameworks/R.framework/Resources/bin/R CMD build --keep-empty-dirs --no-resave-data RGSEA StartedAt: 2025-11-12 17:04:10 -0500 (Wed, 12 Nov 2025) EndedAt: 2025-11-12 17:04:28 -0500 (Wed, 12 Nov 2025) EllapsedTime: 18.2 seconds RetCode: 0 Status: OK PackageFile: RGSEA_1.45.0.tar.gz PackageFileSize: 1.723 MiB