Package: RGSEA Version: 1.45.0 Maintainer: Chengcheng Ma MaintainerEmail: ccma at sibs.ac.cn git_url: https://git.bioconductor.org/packages/RGSEA git_branch: devel git_last_commit: 525ac54 git_last_commit_date: 2025-10-29 10:20:00 -0500 (Wed, 29 Oct 2025)