Package: RFLOMICS Version: 1.3.0 Command: /home/biocbuild/bbs-3.23-bioc/R/bin/R CMD INSTALL RFLOMICS StartedAt: 2025-11-11 15:51:54 -0500 (Tue, 11 Nov 2025) EndedAt: 2025-11-11 15:52:47 -0500 (Tue, 11 Nov 2025) EllapsedTime: 53.1 seconds RetCode: 0 Status: OK