Package: RFLOMICS Version: 1.3.0 Command: /Library/Frameworks/R.framework/Resources/bin/R CMD build --keep-empty-dirs --no-resave-data RFLOMICS StartedAt: 2025-11-13 17:28:55 -0500 (Thu, 13 Nov 2025) EndedAt: 2025-11-13 17:29:54 -0500 (Thu, 13 Nov 2025) EllapsedTime: 58.6 seconds RetCode: 0 Status: OK PackageFile: RFLOMICS_1.3.0.tar.gz PackageFileSize: 5.093 MiB