Package: RESOLVE Version: 1.13.0 Command: /home/biocbuild/bbs-3.23-bioc/R/bin/R CMD INSTALL RESOLVE StartedAt: 2025-11-11 15:49:13 -0500 (Tue, 11 Nov 2025) EndedAt: 2025-11-11 15:49:52 -0500 (Tue, 11 Nov 2025) EllapsedTime: 39.0 seconds RetCode: 0 Status: OK