Package: RESOLVE Version: 1.13.0 Command: /home/biocbuild/bbs-3.23-bioc/R/bin/R CMD build --keep-empty-dirs --no-resave-data RESOLVE StartedAt: 2025-11-11 19:39:59 -0500 (Tue, 11 Nov 2025) EndedAt: 2025-11-11 19:40:57 -0500 (Tue, 11 Nov 2025) EllapsedTime: 58.1 seconds RetCode: 0 Status: OK PackageFile: RESOLVE_1.13.0.tar.gz PackageFileSize: 856.4 KiB