Package: RESOLVE Version: 1.13.0 Command: /Library/Frameworks/R.framework/Resources/bin/R CMD INSTALL RESOLVE StartedAt: 2025-11-12 15:41:43 -0500 (Wed, 12 Nov 2025) EndedAt: 2025-11-12 15:41:58 -0500 (Wed, 12 Nov 2025) EllapsedTime: 15.6 seconds RetCode: 0 Status: OK