Package: RESOLVE Version: 1.13.0 Command: /Library/Frameworks/R.framework/Resources/bin/R CMD build --keep-empty-dirs --no-resave-data RESOLVE StartedAt: 2025-11-12 17:03:36 -0500 (Wed, 12 Nov 2025) EndedAt: 2025-11-12 17:04:02 -0500 (Wed, 12 Nov 2025) EllapsedTime: 25.3 seconds RetCode: 0 Status: OK PackageFile: RESOLVE_1.13.0.tar.gz PackageFileSize: 853.8 KiB