Package: RESOLVE Version: 1.13.0 Command: rm -rf RESOLVE.buildbin-libdir && mkdir RESOLVE.buildbin-libdir && /Users/biocbuild/BBS/utils/build-universal.sh RESOLVE_1.13.0.tar.gz /Library/Frameworks/R.framework/Resources/bin/R RESOLVE.buildbin-libdir StartedAt: 2025-11-12 21:07:55 -0500 (Wed, 12 Nov 2025) EndedAt: 2025-11-12 21:08:14 -0500 (Wed, 12 Nov 2025) EllapsedTime: 19.4 seconds RetCode: 0 Status: OK PackageFile: RESOLVE_1.13.0.tgz PackageFileSize: 1.002 MiB