Package: RESOLVE Version: 1.13.0 Maintainer: Luca De Sano MaintainerEmail: luca.desano at gmail.com git_url: https://git.bioconductor.org/packages/RESOLVE git_branch: devel git_last_commit: 60de66e git_last_commit_date: 2025-10-29 11:19:27 -0500 (Wed, 29 Oct 2025)