Package: REMP Version: 1.35.0 Command: /home/biocbuild/bbs-3.23-bioc/R/bin/R CMD INSTALL REMP StartedAt: 2025-11-19 15:45:10 -0500 (Wed, 19 Nov 2025) EndedAt: 2025-11-19 15:46:08 -0500 (Wed, 19 Nov 2025) EllapsedTime: 58.1 seconds RetCode: 0 Status: OK