Package: REMP Version: 1.35.0 Command: /home/biocbuild/bbs-3.23-bioc/R/bin/R CMD build --keep-empty-dirs --no-resave-data REMP StartedAt: 2025-11-19 19:37:16 -0500 (Wed, 19 Nov 2025) EndedAt: 2025-11-19 19:39:07 -0500 (Wed, 19 Nov 2025) EllapsedTime: 111.1 seconds RetCode: 0 Status: OK PackageFile: REMP_1.35.0.tar.gz PackageFileSize: 190.7 KiB