Package: REDseq Version: 1.57.0 Command: /home/biocbuild/bbs-3.23-bioc/R/bin/R CMD build --keep-empty-dirs --no-resave-data REDseq StartedAt: 2025-11-14 19:33:11 -0500 (Fri, 14 Nov 2025) EndedAt: 2025-11-14 19:34:17 -0500 (Fri, 14 Nov 2025) EllapsedTime: 66.1 seconds RetCode: 0 Status: OK PackageFile: REDseq_1.57.0.tar.gz PackageFileSize: 361.5 KiB