Package: REDseq Version: 1.57.0 Command: /Library/Frameworks/R.framework/Resources/bin/R CMD build --keep-empty-dirs --no-resave-data REDseq StartedAt: 2025-11-13 17:27:48 -0500 (Thu, 13 Nov 2025) EndedAt: 2025-11-13 17:28:20 -0500 (Thu, 13 Nov 2025) EllapsedTime: 31.4 seconds RetCode: 0 Status: OK PackageFile: REDseq_1.57.0.tar.gz PackageFileSize: 361.7 KiB