Package: REDseq Version: 1.57.0 Maintainer: Lihua Julie Zhu MaintainerEmail: julie.zhu at umassmed.edu git_url: https://git.bioconductor.org/packages/REDseq git_branch: devel git_last_commit: 05ac2ab git_last_commit_date: 2025-10-29 10:07:45 -0500 (Wed, 29 Oct 2025)