Package: RDRToolbox Version: 1.61.0 Command: /Library/Frameworks/R.framework/Resources/bin/R CMD INSTALL RDRToolbox StartedAt: 2025-11-13 15:04:09 -0500 (Thu, 13 Nov 2025) EndedAt: 2025-11-13 15:04:28 -0500 (Thu, 13 Nov 2025) EllapsedTime: 18.5 seconds RetCode: 0 Status: OK