Package: RDRToolbox Version: 1.61.0 Command: rm -rf RDRToolbox.buildbin-libdir && mkdir RDRToolbox.buildbin-libdir && /Users/biocbuild/BBS/utils/build-universal.sh RDRToolbox_1.61.0.tar.gz /Library/Frameworks/R.framework/Resources/bin/R RDRToolbox.buildbin-libdir StartedAt: 2025-11-13 23:52:18 -0500 (Thu, 13 Nov 2025) EndedAt: 2025-11-13 23:52:20 -0500 (Thu, 13 Nov 2025) EllapsedTime: 2.0 seconds RetCode: 0 Status: OK PackageFile: RDRToolbox_1.61.0.tgz PackageFileSize: 188.3 KiB