Package: RDRToolbox Version: 1.61.0 Maintainer: Christoph Bartenhagen MaintainerEmail: c.bartenhagen at uni-koeln.de git_url: https://git.bioconductor.org/packages/RDRToolbox git_branch: devel git_last_commit: 6b1f3bb git_last_commit_date: 2025-10-29 10:05:32 -0500 (Wed, 29 Oct 2025)