Package: RCyjs Version: 2.33.0 Command: /Library/Frameworks/R.framework/Resources/bin/R CMD INSTALL RCyjs StartedAt: 2025-11-14 15:08:32 -0500 (Fri, 14 Nov 2025) EndedAt: 2025-11-14 15:08:34 -0500 (Fri, 14 Nov 2025) EllapsedTime: 2.4 seconds RetCode: 0 Status: OK