Package: RCyjs Version: 2.33.0 Command: /Library/Frameworks/R.framework/Resources/bin/R CMD build --keep-empty-dirs --no-resave-data RCyjs StartedAt: 2025-11-14 17:24:19 -0500 (Fri, 14 Nov 2025) EndedAt: 2025-11-14 17:24:24 -0500 (Fri, 14 Nov 2025) EllapsedTime: 5.1 seconds RetCode: 0 Status: OK PackageFile: RCyjs_2.33.0.tar.gz PackageFileSize: 1.084 MiB