Package: RCyjs Version: 2.33.0 Command: rm -rf RCyjs.buildbin-libdir && mkdir RCyjs.buildbin-libdir && /Users/biocbuild/BBS/utils/build-universal.sh RCyjs_2.33.0.tar.gz /Library/Frameworks/R.framework/Resources/bin/R RCyjs.buildbin-libdir StartedAt: 2025-11-14 23:47:23 -0500 (Fri, 14 Nov 2025) EndedAt: 2025-11-14 23:47:28 -0500 (Fri, 14 Nov 2025) EllapsedTime: 4.1 seconds RetCode: 0 Status: OK PackageFile: RCyjs_2.33.0.tgz PackageFileSize: 1.007 MiB