Package: RCy3 Version: 2.31.0 Command: /Library/Frameworks/R.framework/Resources/bin/R CMD INSTALL RCy3 StartedAt: 2025-11-14 15:07:26 -0500 (Fri, 14 Nov 2025) EndedAt: 2025-11-14 15:07:30 -0500 (Fri, 14 Nov 2025) EllapsedTime: 4.6 seconds RetCode: 0 Status: OK