Package: RCy3 Version: 2.31.0 Command: /Library/Frameworks/R.framework/Resources/bin/R CMD build --keep-empty-dirs --no-resave-data RCy3 StartedAt: 2025-11-14 17:24:15 -0500 (Fri, 14 Nov 2025) EndedAt: 2025-11-14 17:24:37 -0500 (Fri, 14 Nov 2025) EllapsedTime: 22.3 seconds RetCode: 0 Status: OK PackageFile: RCy3_2.31.0.tar.gz PackageFileSize: 6.207 MiB