Package: RCy3 Version: 2.31.0 Command: rm -rf RCy3.buildbin-libdir && mkdir RCy3.buildbin-libdir && /Users/biocbuild/BBS/utils/build-universal.sh RCy3_2.31.0.tar.gz /Library/Frameworks/R.framework/Resources/bin/R RCy3.buildbin-libdir StartedAt: 2025-11-13 23:52:14 -0500 (Thu, 13 Nov 2025) EndedAt: 2025-11-13 23:52:22 -0500 (Thu, 13 Nov 2025) EllapsedTime: 8.2 seconds RetCode: 0 Status: OK PackageFile: RCy3_2.31.0.tgz PackageFileSize: 7.091 MiB