Package: RCX Version: 1.15.0 Command: /home/biocbuild/bbs-3.23-bioc/R/bin/R CMD INSTALL RCX StartedAt: 2025-11-14 15:06:17 -0500 (Fri, 14 Nov 2025) EndedAt: 2025-11-14 15:06:24 -0500 (Fri, 14 Nov 2025) EllapsedTime: 6.7 seconds RetCode: 0 Status: OK