Package: RCX Version: 1.15.0 Maintainer: Florian Auer MaintainerEmail: florian.auer at informatik.uni-augsburg.de git_url: https://git.bioconductor.org/packages/RCX git_branch: devel git_last_commit: ae7e0e2 git_last_commit_date: 2025-10-29 11:14:31 -0500 (Wed, 29 Oct 2025)