Package: RCSL Version: 1.19.0 Command: /home/biocbuild/bbs-3.23-bioc/R/bin/R CMD INSTALL RCSL StartedAt: 2025-11-11 15:23:11 -0500 (Tue, 11 Nov 2025) EndedAt: 2025-11-11 15:23:19 -0500 (Tue, 11 Nov 2025) EllapsedTime: 8.3 seconds RetCode: 0 Status: OK