Package: RCSL Version: 1.19.0 Command: /home/biocbuild/bbs-3.23-bioc/R/bin/R CMD build --keep-empty-dirs --no-resave-data RCSL StartedAt: 2025-11-13 19:31:56 -0500 (Thu, 13 Nov 2025) EndedAt: 2025-11-13 19:32:24 -0500 (Thu, 13 Nov 2025) EllapsedTime: 28.1 seconds RetCode: 0 Status: OK PackageFile: RCSL_1.19.0.tar.gz PackageFileSize: 1.959 MiB