Package: RCSL Version: 1.19.0 Command: /Library/Frameworks/R.framework/Resources/bin/R CMD INSTALL RCSL StartedAt: 2025-11-12 15:25:16 -0500 (Wed, 12 Nov 2025) EndedAt: 2025-11-12 15:25:19 -0500 (Wed, 12 Nov 2025) EllapsedTime: 3.2 seconds RetCode: 0 Status: OK