Package: RCSL Version: 1.19.0 Command: /Library/Frameworks/R.framework/Resources/bin/R CMD build --keep-empty-dirs --no-resave-data RCSL StartedAt: 2025-11-12 17:02:24 -0500 (Wed, 12 Nov 2025) EndedAt: 2025-11-12 17:02:37 -0500 (Wed, 12 Nov 2025) EllapsedTime: 13.1 seconds RetCode: 0 Status: OK PackageFile: RCSL_1.19.0.tar.gz PackageFileSize: 1.971 MiB