Package: RCSL Version: 1.19.0 Command: rm -rf RCSL.buildbin-libdir && mkdir RCSL.buildbin-libdir && /Users/biocbuild/BBS/utils/build-universal.sh RCSL_1.19.0.tar.gz /Library/Frameworks/R.framework/Resources/bin/R RCSL.buildbin-libdir StartedAt: 2025-11-13 23:52:13 -0500 (Thu, 13 Nov 2025) EndedAt: 2025-11-13 23:52:18 -0500 (Thu, 13 Nov 2025) EllapsedTime: 5.1 seconds RetCode: 0 Status: OK PackageFile: RCSL_1.19.0.tgz PackageFileSize: 3.045 MiB