Package: RCM Version: 1.27.0 Command: /home/biocbuild/bbs-3.23-bioc/R/bin/R CMD INSTALL RCM StartedAt: 2025-11-13 15:17:32 -0500 (Thu, 13 Nov 2025) EndedAt: 2025-11-13 15:17:55 -0500 (Thu, 13 Nov 2025) EllapsedTime: 23.0 seconds RetCode: 0 Status: OK