Package: RCASPAR Version: 1.57.0 Command: /home/biocbuild/bbs-3.23-bioc/R/bin/R CMD INSTALL RCASPAR StartedAt: 2025-11-14 15:02:53 -0500 (Fri, 14 Nov 2025) EndedAt: 2025-11-14 15:03:01 -0500 (Fri, 14 Nov 2025) EllapsedTime: 7.7 seconds RetCode: 0 Status: OK