Package: RCASPAR Version: 1.57.0 Command: /home/biocbuild/bbs-3.23-bioc/R/bin/R CMD build --keep-empty-dirs --no-resave-data RCASPAR StartedAt: 2025-11-14 19:31:03 -0500 (Fri, 14 Nov 2025) EndedAt: 2025-11-14 19:31:09 -0500 (Fri, 14 Nov 2025) EllapsedTime: 6.0 seconds RetCode: 0 Status: OK PackageFile: RCASPAR_1.57.0.tar.gz PackageFileSize: 305.6 KiB