Package: RCASPAR Version: 1.57.0 Maintainer: Douaa Mugahid , Lars Kaderali MaintainerEmail: lars.kaderali at uni-greifswald.de git_url: https://git.bioconductor.org/packages/RCASPAR git_branch: devel git_last_commit: ffaea51 git_last_commit_date: 2025-10-29 10:07:48 -0500 (Wed, 29 Oct 2025)