Package: RCAS Version: 1.37.0 Command: /home/biocbuild/bbs-3.23-bioc/R/bin/R CMD INSTALL RCAS StartedAt: 2025-11-13 15:40:05 -0500 (Thu, 13 Nov 2025) EndedAt: 2025-11-13 15:40:54 -0500 (Thu, 13 Nov 2025) EllapsedTime: 48.9 seconds RetCode: 0 Status: OK