Package: RCAS Version: 1.37.0 Command: /home/biocbuild/bbs-3.23-bioc/R/bin/R CMD build --keep-empty-dirs --no-resave-data RCAS StartedAt: 2025-11-13 19:30:50 -0500 (Thu, 13 Nov 2025) EndedAt: 2025-11-13 19:33:38 -0500 (Thu, 13 Nov 2025) EllapsedTime: 168.2 seconds RetCode: 0 Status: OK PackageFile: RCAS_1.37.0.tar.gz PackageFileSize: 1.506 MiB