Package: RCAS Version: 1.37.0 Command: /Library/Frameworks/R.framework/Resources/bin/R CMD INSTALL RCAS StartedAt: 2025-11-13 15:21:42 -0500 (Thu, 13 Nov 2025) EndedAt: 2025-11-13 15:22:01 -0500 (Thu, 13 Nov 2025) EllapsedTime: 18.8 seconds RetCode: 0 Status: OK