Package: RCAS Version: 1.37.0 Command: /Library/Frameworks/R.framework/Resources/bin/R CMD build --keep-empty-dirs --no-resave-data RCAS StartedAt: 2025-11-13 17:26:35 -0500 (Thu, 13 Nov 2025) EndedAt: 2025-11-13 17:27:50 -0500 (Thu, 13 Nov 2025) EllapsedTime: 74.9 seconds RetCode: 0 Status: OK PackageFile: RCAS_1.37.0.tar.gz PackageFileSize: 1.596 MiB