Package: RCAS Version: 1.37.0 Command: rm -rf RCAS.buildbin-libdir && mkdir RCAS.buildbin-libdir && /Users/biocbuild/BBS/utils/build-universal.sh RCAS_1.37.0.tar.gz /Library/Frameworks/R.framework/Resources/bin/R RCAS.buildbin-libdir StartedAt: 2025-11-13 23:52:06 -0500 (Thu, 13 Nov 2025) EndedAt: 2025-11-13 23:52:29 -0500 (Thu, 13 Nov 2025) EllapsedTime: 23.5 seconds RetCode: 0 Status: OK PackageFile: RCAS_1.37.0.tgz PackageFileSize: 2.053 MiB