Package: RCAS Version: 1.37.0 Maintainer: Bora Uyar MaintainerEmail: bora.uyar at mdc-berlin.de git_url: https://git.bioconductor.org/packages/RCAS git_branch: devel git_last_commit: 1a77884 git_last_commit_date: 2025-10-29 10:33:22 -0500 (Wed, 29 Oct 2025)