Package: RBioFormats Version: 1.11.0 Command: /home/biocbuild/bbs-3.23-bioc/R/bin/R CMD build --keep-empty-dirs --no-resave-data RBioFormats StartedAt: 2025-11-13 19:30:10 -0500 (Thu, 13 Nov 2025) EndedAt: 2025-11-13 19:30:26 -0500 (Thu, 13 Nov 2025) EllapsedTime: 16.0 seconds RetCode: 0 Status: OK PackageFile: RBioFormats_1.11.0.tar.gz PackageFileSize: 320.2 KiB