Package: RBioFormats Version: 1.11.0 Command: /Library/Frameworks/R.framework/Resources/bin/R CMD build --keep-empty-dirs --no-resave-data RBioFormats StartedAt: 2025-11-13 17:26:08 -0500 (Thu, 13 Nov 2025) EndedAt: 2025-11-13 17:26:16 -0500 (Thu, 13 Nov 2025) EllapsedTime: 8.1 seconds RetCode: 0 Status: OK PackageFile: RBioFormats_1.11.0.tar.gz PackageFileSize: 321.5 KiB